BEGIN:VCALENDAR
VERSION:2.0
PRODID:-//Bayley&#039;s Camping Resort - ECPv6.15.18//NONSGML v1.0//EN
CALSCALE:GREGORIAN
METHOD:PUBLISH
X-ORIGINAL-URL:https://bayleysresort.com
X-WR-CALDESC:Events for Bayley&#039;s Camping Resort
REFRESH-INTERVAL;VALUE=DURATION:PT1H
X-Robots-Tag:noindex
X-PUBLISHED-TTL:PT1H
BEGIN:VTIMEZONE
TZID:America/New_York
BEGIN:DAYLIGHT
TZOFFSETFROM:-0500
TZOFFSETTO:-0400
TZNAME:EDT
DTSTART:20230312T070000
END:DAYLIGHT
BEGIN:STANDARD
TZOFFSETFROM:-0400
TZOFFSETTO:-0500
TZNAME:EST
DTSTART:20231105T060000
END:STANDARD
BEGIN:DAYLIGHT
TZOFFSETFROM:-0500
TZOFFSETTO:-0400
TZNAME:EDT
DTSTART:20240310T070000
END:DAYLIGHT
BEGIN:STANDARD
TZOFFSETFROM:-0400
TZOFFSETTO:-0500
TZNAME:EST
DTSTART:20241103T060000
END:STANDARD
BEGIN:DAYLIGHT
TZOFFSETFROM:-0500
TZOFFSETTO:-0400
TZNAME:EDT
DTSTART:20250309T070000
END:DAYLIGHT
BEGIN:STANDARD
TZOFFSETFROM:-0400
TZOFFSETTO:-0500
TZNAME:EST
DTSTART:20251102T060000
END:STANDARD
END:VTIMEZONE
BEGIN:VEVENT
DTSTART;TZID=America/New_York:20240621T193000
DTEND;TZID=America/New_York:20240621T210000
DTSTAMP:20260419T085254
CREATED:20240629T052235Z
LAST-MODIFIED:20240629T052235Z
UID:10000580-1718998200-1719003600@bayleysresort.com
SUMMARY:Movie Night
DESCRIPTION:Join us for a family movie night in the Seaside Square Pavilion! Fun movies for all ages displayed on our giant 4K projector screen!
URL:https://bayleysresort.com/event/movie-night-3/2024-06-21/
LOCATION:Seaside Square Complex
CATEGORIES:Movie
GEO:43.547068;-70.357549
END:VEVENT
BEGIN:VEVENT
DTSTART;TZID=America/New_York:20240615T193000
DTEND;TZID=America/New_York:20240615T210000
DTSTAMP:20260419T085254
CREATED:20240629T045611Z
LAST-MODIFIED:20240629T045611Z
UID:10000535-1718479800-1718485200@bayleysresort.com
SUMMARY:Don Campbell Band
DESCRIPTION:Don Campbell is a singer-songwriter\, composer\, and multi-instrumentalist whose music is inspired by sources as diverse as the Celtic and Canadian Maritimes music of his family to Dan Fogelberg\, Vince Gill\, the Beatles and novelist\, Stephen King. Writing in genres including adult contemporary\, country\, Celtic\, Christmas\, bluegrass\, and rock\, Don has released 12 CDs\, most recently a two-disc\, 23-song collection\, “Kites To Fly: Celebrating The Music Of Dan Fogelberg”. Co-based in Portland\, Maine and Nashville\, TN\, Don averages between 150-200 performances per year primarily with the New England-based Don Campbell Band and smaller ensembles\, including the nationally touring Restless Campbells. Don released a new original adult contemporary project\, The Dust Never Settles\, in 2014.
URL:https://bayleysresort.com/event/don-campbell-band-14/2024-06-15/
LOCATION:Seaside Square Complex
CATEGORIES:Music
GEO:43.547068;-70.357549
END:VEVENT
BEGIN:VEVENT
DTSTART;TZID=America/New_York:20240526T193000
DTEND;TZID=America/New_York:20240526T210000
DTSTAMP:20260419T085254
CREATED:20240629T051829Z
LAST-MODIFIED:20240629T051829Z
UID:10000570-1716751800-1716757200@bayleysresort.com
SUMMARY:Steve Wronker
DESCRIPTION:Steve Wronker is a unique entertainer with a unique slant on the most hilarious\, the most outrageous and the funniest form of comedy available in today’s entertainment market. And the SWFB comedy hypnosis show is extremely different than any other hypnosis show available. Steve is one of the more seasoned and experienced stage hypnotists in America today and entertaining audiences since 1974; comedy hypnosis shows since 1987. No matter what the audience; whether family\, students or adults only\, no matter what the event; Steve has a show that will fit your needs. Explore the web site and see how this show is exactly what you are looking for. \nYou can set aside your ideas and thoughts about an X-rated adult night club act. This program is far from that embarrassing kind of entertainment. I want you to have the expectation of having fun. Steve makes a promise to all those that wish to participate and be hypnotized. The promise is that he will NEVER ask you\, as a volunteer\, to do anything to embarrass\, humiliate or degrade yourself. All the routines will make fun of life and life’s joyous and humorous experiences. Steve’s goals in all his hypnosis shows is this: He wants his volunteers to say at the end of the evening’s program; “I feel relaxed\, it was fun and I would do it again with Steve Wronker!” Steve hopes the audience has enjoyed the show and would want to see it again and again.
URL:https://bayleysresort.com/event/steve-wronker-15/2024-05-26/
LOCATION:Seaside Square Complex
CATEGORIES:Hypnosis
GEO:43.547068;-70.357549
END:VEVENT
BEGIN:VEVENT
DTSTART;TZID=America/New_York:20240526T193000
DTEND;TZID=America/New_York:20240526T210000
DTSTAMP:20260419T085254
CREATED:20240629T050152Z
LAST-MODIFIED:20240629T050152Z
UID:10000537-1716751800-1716757200@bayleysresort.com
SUMMARY:Matt Roberts
DESCRIPTION:On the day Matt was born\, the #1 song in America was Abracadabra by The Steve Miller Band. We kid you not. So\, destined to be a magician\, he has gone on to become one of the busiest full-time entertainers in the country\, traveling nationwide to help a diverse list of clients including GE\, Ocean Spray\, The Waldorf Astoria at The Walt Disney World Resort\, McDonald’s\, ESPN\, Pepperidge Farm\, Liberty Mutual\, Wendy’s\, Haynes International\, MIT\, The Little People of America National Conference\, LongLeaf Partners Funds\, Harvard Business School\, The International Portuguese Music Awards Gala\, IKON\, The National Guard\, Mohegan Sun Casino\, Catch A Rising Star Comedy Clubs and numerous private party planners\, resorts and performing arts centers make their events\, large and small\, memorable and impressive!
URL:https://bayleysresort.com/event/matt-roberts-10/2024-05-26/
LOCATION:Seaside Square Complex
CATEGORIES:Magic
GEO:43.547068;-70.357549
END:VEVENT
BEGIN:VEVENT
DTSTART;TZID=America/New_York:20240525T193000
DTEND;TZID=America/New_York:20240525T210000
DTSTAMP:20260419T085254
CREATED:20240629T050926Z
LAST-MODIFIED:20240629T050926Z
UID:10000553-1716665400-1716670800@bayleysresort.com
SUMMARY:New Coos Band
DESCRIPTION:Like the canyon they take their name from in Byron\, Maine\, the New Coos band is one of Maine’s best kept secret’s\, but the word is spreading… \nWith unparalleled power harmonies\, this band explores the hits in any genre – country\, folk\, blues\, rock\, top40\, dance\, and more… it’s all here on the New Coos playlist. Simply one of the best bands performing in New England today\, this band “delivers” leaving their audiences amazed – even stunned – and wanting more. \nFrom The Eagles acapella “Seven Bridges Road” ballad or needing a full band to back them up with a little help from technology to fuel the hard driving Thin Lizzy song “The Boys are Back in Town”\, people from Boston to Bangor say this is a band NOT to be missed. Just a couple of humble guys that feel they are only as good as their last song\, hope to see you at our next show!
URL:https://bayleysresort.com/event/new-coos-band-4/2024-05-25/
LOCATION:Seaside Square Complex
CATEGORIES:Music
GEO:43.547068;-70.357549
END:VEVENT
END:VCALENDAR