BEGIN:VCALENDAR
VERSION:2.0
PRODID:-//Bayley&#039;s Camping Resort - ECPv6.15.18//NONSGML v1.0//EN
CALSCALE:GREGORIAN
METHOD:PUBLISH
X-WR-CALNAME:Bayley&#039;s Camping Resort
X-ORIGINAL-URL:https://bayleysresort.com
X-WR-CALDESC:Events for Bayley&#039;s Camping Resort
REFRESH-INTERVAL;VALUE=DURATION:PT1H
X-Robots-Tag:noindex
X-PUBLISHED-TTL:PT1H
BEGIN:VTIMEZONE
TZID:America/New_York
BEGIN:DAYLIGHT
TZOFFSETFROM:-0500
TZOFFSETTO:-0400
TZNAME:EDT
DTSTART:20250309T070000
END:DAYLIGHT
BEGIN:STANDARD
TZOFFSETFROM:-0400
TZOFFSETTO:-0500
TZNAME:EST
DTSTART:20251102T060000
END:STANDARD
BEGIN:DAYLIGHT
TZOFFSETFROM:-0500
TZOFFSETTO:-0400
TZNAME:EDT
DTSTART:20260308T070000
END:DAYLIGHT
BEGIN:STANDARD
TZOFFSETFROM:-0400
TZOFFSETTO:-0500
TZNAME:EST
DTSTART:20261101T060000
END:STANDARD
BEGIN:DAYLIGHT
TZOFFSETFROM:-0500
TZOFFSETTO:-0400
TZNAME:EDT
DTSTART:20270314T070000
END:DAYLIGHT
BEGIN:STANDARD
TZOFFSETFROM:-0400
TZOFFSETTO:-0500
TZNAME:EST
DTSTART:20271107T060000
END:STANDARD
END:VTIMEZONE
BEGIN:VEVENT
DTSTART;TZID=America/New_York:20260802T193000
DTEND;TZID=America/New_York:20260802T210000
DTSTAMP:20260419T131827
CREATED:20251209T193116Z
LAST-MODIFIED:20251209T193116Z
UID:10000718-1785699000-1785704400@bayleysresort.com
SUMMARY:Concert Karaoke
DESCRIPTION:Join us every Sunday evening for Concert Karaoke! Get in your 5 minutes of fame!
URL:https://bayleysresort.com/event/concert-karaoke-7/2026-08-02/
LOCATION:Seaside Square Complex
CATEGORIES:Performance
GEO:43.547068;-70.357549
END:VEVENT
BEGIN:VEVENT
DTSTART;TZID=America/New_York:20260803T193000
DTEND;TZID=America/New_York:20260803T210000
DTSTAMP:20260419T131827
CREATED:20251209T193922Z
LAST-MODIFIED:20260127T154835Z
UID:10000751-1785785400-1785790800@bayleysresort.com
SUMMARY:Off the Wall
DESCRIPTION:This show mixes high-energy juggling\, physical comedy\, and dangerous stunts into one incredible performance! Jason Tardy and Steve Corning have traveled around the world performing their hit show\, Off the Wall. Join us for a night of non-stop entertainment for the whole family!
URL:https://bayleysresort.com/event/off-the-wall-9/2026-08-03/
LOCATION:Seaside Square Complex
CATEGORIES:Comedy,Performance
ATTACH;FMTTYPE=image/jpeg:https://bayleysresort.com/wp-content/uploads/2025/12/OFF-THE-WALL.jpg
GEO:43.547068;-70.357549
END:VEVENT
BEGIN:VEVENT
DTSTART;TZID=America/New_York:20260809T193000
DTEND;TZID=America/New_York:20260809T210000
DTSTAMP:20260419T131827
CREATED:20251209T193116Z
LAST-MODIFIED:20251209T193116Z
UID:10000719-1786303800-1786309200@bayleysresort.com
SUMMARY:Concert Karaoke
DESCRIPTION:Join us every Sunday evening for Concert Karaoke! Get in your 5 minutes of fame!
URL:https://bayleysresort.com/event/concert-karaoke-7/2026-08-09/
LOCATION:Seaside Square Complex
CATEGORIES:Performance
GEO:43.547068;-70.357549
END:VEVENT
BEGIN:VEVENT
DTSTART;TZID=America/New_York:20260816T193000
DTEND;TZID=America/New_York:20260816T210000
DTSTAMP:20260419T131827
CREATED:20251209T193116Z
LAST-MODIFIED:20251209T193116Z
UID:10000720-1786908600-1786914000@bayleysresort.com
SUMMARY:Concert Karaoke
DESCRIPTION:Join us every Sunday evening for Concert Karaoke! Get in your 5 minutes of fame!
URL:https://bayleysresort.com/event/concert-karaoke-7/2026-08-16/
LOCATION:Seaside Square Complex
CATEGORIES:Performance
GEO:43.547068;-70.357549
END:VEVENT
BEGIN:VEVENT
DTSTART;TZID=America/New_York:20260817T193000
DTEND;TZID=America/New_York:20260817T210000
DTSTAMP:20260419T131827
CREATED:20251209T193922Z
LAST-MODIFIED:20260127T154835Z
UID:10000752-1786995000-1787000400@bayleysresort.com
SUMMARY:Off the Wall
DESCRIPTION:This show mixes high-energy juggling\, physical comedy\, and dangerous stunts into one incredible performance! Jason Tardy and Steve Corning have traveled around the world performing their hit show\, Off the Wall. Join us for a night of non-stop entertainment for the whole family!
URL:https://bayleysresort.com/event/off-the-wall-9/2026-08-17/
LOCATION:Seaside Square Complex
CATEGORIES:Comedy,Performance
ATTACH;FMTTYPE=image/jpeg:https://bayleysresort.com/wp-content/uploads/2025/12/OFF-THE-WALL.jpg
GEO:43.547068;-70.357549
END:VEVENT
BEGIN:VEVENT
DTSTART;TZID=America/New_York:20260823T193000
DTEND;TZID=America/New_York:20260823T210000
DTSTAMP:20260419T131827
CREATED:20251209T193116Z
LAST-MODIFIED:20251209T193116Z
UID:10000721-1787513400-1787518800@bayleysresort.com
SUMMARY:Concert Karaoke
DESCRIPTION:Join us every Sunday evening for Concert Karaoke! Get in your 5 minutes of fame!
URL:https://bayleysresort.com/event/concert-karaoke-7/2026-08-23/
LOCATION:Seaside Square Complex
CATEGORIES:Performance
GEO:43.547068;-70.357549
END:VEVENT
BEGIN:VEVENT
DTSTART;TZID=America/New_York:20260826T193000
DTEND;TZID=America/New_York:20260826T210000
DTSTAMP:20260419T131827
CREATED:20251209T193922Z
LAST-MODIFIED:20260127T154835Z
UID:10000753-1787772600-1787778000@bayleysresort.com
SUMMARY:Off the Wall
DESCRIPTION:This show mixes high-energy juggling\, physical comedy\, and dangerous stunts into one incredible performance! Jason Tardy and Steve Corning have traveled around the world performing their hit show\, Off the Wall. Join us for a night of non-stop entertainment for the whole family!
URL:https://bayleysresort.com/event/off-the-wall-9/2026-08-26/
LOCATION:Seaside Square Complex
CATEGORIES:Comedy,Performance
ATTACH;FMTTYPE=image/jpeg:https://bayleysresort.com/wp-content/uploads/2025/12/OFF-THE-WALL.jpg
GEO:43.547068;-70.357549
END:VEVENT
BEGIN:VEVENT
DTSTART;TZID=America/New_York:20260830T193000
DTEND;TZID=America/New_York:20260830T210000
DTSTAMP:20260419T131827
CREATED:20251209T193116Z
LAST-MODIFIED:20251209T193116Z
UID:10000722-1788118200-1788123600@bayleysresort.com
SUMMARY:Concert Karaoke
DESCRIPTION:Join us every Sunday evening for Concert Karaoke! Get in your 5 minutes of fame!
URL:https://bayleysresort.com/event/concert-karaoke-7/2026-08-30/
LOCATION:Seaside Square Complex
CATEGORIES:Performance
GEO:43.547068;-70.357549
END:VEVENT
END:VCALENDAR