BEGIN:VCALENDAR
VERSION:2.0
PRODID:-//Bayley&#039;s Camping Resort - ECPv6.15.18//NONSGML v1.0//EN
CALSCALE:GREGORIAN
METHOD:PUBLISH
X-ORIGINAL-URL:https://bayleysresort.com
X-WR-CALDESC:Events for Bayley&#039;s Camping Resort
REFRESH-INTERVAL;VALUE=DURATION:PT1H
X-Robots-Tag:noindex
X-PUBLISHED-TTL:PT1H
BEGIN:VTIMEZONE
TZID:America/New_York
BEGIN:DAYLIGHT
TZOFFSETFROM:-0500
TZOFFSETTO:-0400
TZNAME:EDT
DTSTART:20250309T070000
END:DAYLIGHT
BEGIN:STANDARD
TZOFFSETFROM:-0400
TZOFFSETTO:-0500
TZNAME:EST
DTSTART:20251102T060000
END:STANDARD
BEGIN:DAYLIGHT
TZOFFSETFROM:-0500
TZOFFSETTO:-0400
TZNAME:EDT
DTSTART:20260308T070000
END:DAYLIGHT
BEGIN:STANDARD
TZOFFSETFROM:-0400
TZOFFSETTO:-0500
TZNAME:EST
DTSTART:20261101T060000
END:STANDARD
BEGIN:DAYLIGHT
TZOFFSETFROM:-0500
TZOFFSETTO:-0400
TZNAME:EDT
DTSTART:20270314T070000
END:DAYLIGHT
BEGIN:STANDARD
TZOFFSETFROM:-0400
TZOFFSETTO:-0500
TZNAME:EST
DTSTART:20271107T060000
END:STANDARD
END:VTIMEZONE
BEGIN:VEVENT
DTSTART;TZID=America/New_York:20260704T210000
DTEND;TZID=America/New_York:20260704T213000
DTSTAMP:20260419T114456
CREATED:20260309T164234Z
LAST-MODIFIED:20260309T164234Z
UID:10000806-1783198800-1783200600@bayleysresort.com
SUMMARY:4th of July Fireworks
DESCRIPTION:Join us in celebrating America’s birthday with a fireworks show! Located at the field behind the Back Cove Store\, where our activities program is hosted. They can be viewed from many areas in the back of the resort!
URL:https://bayleysresort.com/event/4th-of-july-fireworks/
CATEGORIES:Performance
END:VEVENT
BEGIN:VEVENT
DTSTART;TZID=America/New_York:20260705T193000
DTEND;TZID=America/New_York:20260705T210000
DTSTAMP:20260419T114456
CREATED:20251209T193116Z
LAST-MODIFIED:20251209T193116Z
UID:10000714-1783279800-1783285200@bayleysresort.com
SUMMARY:Concert Karaoke
DESCRIPTION:Join us every Sunday evening for Concert Karaoke! Get in your 5 minutes of fame!
URL:https://bayleysresort.com/event/concert-karaoke-7/2026-07-05/
LOCATION:Seaside Square Complex
CATEGORIES:Performance
GEO:43.547068;-70.357549
END:VEVENT
BEGIN:VEVENT
DTSTART;TZID=America/New_York:20260706T193000
DTEND;TZID=America/New_York:20260706T210000
DTSTAMP:20260419T114456
CREATED:20251209T193922Z
LAST-MODIFIED:20260127T154835Z
UID:10000749-1783366200-1783371600@bayleysresort.com
SUMMARY:Off the Wall
DESCRIPTION:This show mixes high-energy juggling\, physical comedy\, and dangerous stunts into one incredible performance! Jason Tardy and Steve Corning have traveled around the world performing their hit show\, Off the Wall. Join us for a night of non-stop entertainment for the whole family!
URL:https://bayleysresort.com/event/off-the-wall-9/2026-07-06/
LOCATION:Seaside Square Complex
CATEGORIES:Comedy,Performance
ATTACH;FMTTYPE=image/jpeg:https://bayleysresort.com/wp-content/uploads/2025/12/OFF-THE-WALL.jpg
GEO:43.547068;-70.357549
END:VEVENT
BEGIN:VEVENT
DTSTART;TZID=America/New_York:20260712T193000
DTEND;TZID=America/New_York:20260712T210000
DTSTAMP:20260419T114456
CREATED:20251209T193116Z
LAST-MODIFIED:20251209T193116Z
UID:10000715-1783884600-1783890000@bayleysresort.com
SUMMARY:Concert Karaoke
DESCRIPTION:Join us every Sunday evening for Concert Karaoke! Get in your 5 minutes of fame!
URL:https://bayleysresort.com/event/concert-karaoke-7/2026-07-12/
LOCATION:Seaside Square Complex
CATEGORIES:Performance
GEO:43.547068;-70.357549
END:VEVENT
BEGIN:VEVENT
DTSTART;TZID=America/New_York:20260719T193000
DTEND;TZID=America/New_York:20260719T210000
DTSTAMP:20260419T114456
CREATED:20251209T193116Z
LAST-MODIFIED:20251209T193116Z
UID:10000716-1784489400-1784494800@bayleysresort.com
SUMMARY:Concert Karaoke
DESCRIPTION:Join us every Sunday evening for Concert Karaoke! Get in your 5 minutes of fame!
URL:https://bayleysresort.com/event/concert-karaoke-7/2026-07-19/
LOCATION:Seaside Square Complex
CATEGORIES:Performance
GEO:43.547068;-70.357549
END:VEVENT
BEGIN:VEVENT
DTSTART;TZID=America/New_York:20260720T193000
DTEND;TZID=America/New_York:20260720T210000
DTSTAMP:20260419T114456
CREATED:20251209T193922Z
LAST-MODIFIED:20260127T154835Z
UID:10000750-1784575800-1784581200@bayleysresort.com
SUMMARY:Off the Wall
DESCRIPTION:This show mixes high-energy juggling\, physical comedy\, and dangerous stunts into one incredible performance! Jason Tardy and Steve Corning have traveled around the world performing their hit show\, Off the Wall. Join us for a night of non-stop entertainment for the whole family!
URL:https://bayleysresort.com/event/off-the-wall-9/2026-07-20/
LOCATION:Seaside Square Complex
CATEGORIES:Comedy,Performance
ATTACH;FMTTYPE=image/jpeg:https://bayleysresort.com/wp-content/uploads/2025/12/OFF-THE-WALL.jpg
GEO:43.547068;-70.357549
END:VEVENT
BEGIN:VEVENT
DTSTART;TZID=America/New_York:20260726T193000
DTEND;TZID=America/New_York:20260726T210000
DTSTAMP:20260419T114456
CREATED:20251209T193116Z
LAST-MODIFIED:20251209T193116Z
UID:10000717-1785094200-1785099600@bayleysresort.com
SUMMARY:Concert Karaoke
DESCRIPTION:Join us every Sunday evening for Concert Karaoke! Get in your 5 minutes of fame!
URL:https://bayleysresort.com/event/concert-karaoke-7/2026-07-26/
LOCATION:Seaside Square Complex
CATEGORIES:Performance
GEO:43.547068;-70.357549
END:VEVENT
END:VCALENDAR