BEGIN:VCALENDAR
VERSION:2.0
PRODID:-//Bayley&#039;s Camping Resort - ECPv6.15.18//NONSGML v1.0//EN
CALSCALE:GREGORIAN
METHOD:PUBLISH
X-ORIGINAL-URL:https://bayleysresort.com
X-WR-CALDESC:Events for Bayley&#039;s Camping Resort
REFRESH-INTERVAL;VALUE=DURATION:PT1H
X-Robots-Tag:noindex
X-PUBLISHED-TTL:PT1H
BEGIN:VTIMEZONE
TZID:America/New_York
BEGIN:DAYLIGHT
TZOFFSETFROM:-0500
TZOFFSETTO:-0400
TZNAME:EDT
DTSTART:20250309T070000
END:DAYLIGHT
BEGIN:STANDARD
TZOFFSETFROM:-0400
TZOFFSETTO:-0500
TZNAME:EST
DTSTART:20251102T060000
END:STANDARD
BEGIN:DAYLIGHT
TZOFFSETFROM:-0500
TZOFFSETTO:-0400
TZNAME:EDT
DTSTART:20260308T070000
END:DAYLIGHT
BEGIN:STANDARD
TZOFFSETFROM:-0400
TZOFFSETTO:-0500
TZNAME:EST
DTSTART:20261101T060000
END:STANDARD
BEGIN:DAYLIGHT
TZOFFSETFROM:-0500
TZOFFSETTO:-0400
TZNAME:EDT
DTSTART:20270314T070000
END:DAYLIGHT
BEGIN:STANDARD
TZOFFSETFROM:-0400
TZOFFSETTO:-0500
TZNAME:EST
DTSTART:20271107T060000
END:STANDARD
END:VTIMEZONE
BEGIN:VEVENT
DTSTART;TZID=America/New_York:20260628T193000
DTEND;TZID=America/New_York:20260628T210000
DTSTAMP:20260419T102451
CREATED:20251209T193116Z
LAST-MODIFIED:20251209T193116Z
UID:10000713-1782675000-1782680400@bayleysresort.com
SUMMARY:Concert Karaoke
DESCRIPTION:Join us every Sunday evening for Concert Karaoke! Get in your 5 minutes of fame!
URL:https://bayleysresort.com/event/concert-karaoke-7/2026-06-28/
LOCATION:Seaside Square Complex
CATEGORIES:Performance
GEO:43.547068;-70.357549
END:VEVENT
END:VCALENDAR