BEGIN:VCALENDAR
VERSION:2.0
PRODID:-//Bayley&#039;s Camping Resort - ECPv6.15.18//NONSGML v1.0//EN
CALSCALE:GREGORIAN
METHOD:PUBLISH
X-WR-CALNAME:Bayley&#039;s Camping Resort
X-ORIGINAL-URL:https://bayleysresort.com
X-WR-CALDESC:Events for Bayley&#039;s Camping Resort
REFRESH-INTERVAL;VALUE=DURATION:PT1H
X-Robots-Tag:noindex
X-PUBLISHED-TTL:PT1H
BEGIN:VTIMEZONE
TZID:America/New_York
BEGIN:DAYLIGHT
TZOFFSETFROM:-0500
TZOFFSETTO:-0400
TZNAME:EDT
DTSTART:20240310T070000
END:DAYLIGHT
BEGIN:STANDARD
TZOFFSETFROM:-0400
TZOFFSETTO:-0500
TZNAME:EST
DTSTART:20241103T060000
END:STANDARD
BEGIN:DAYLIGHT
TZOFFSETFROM:-0500
TZOFFSETTO:-0400
TZNAME:EDT
DTSTART:20250309T070000
END:DAYLIGHT
BEGIN:STANDARD
TZOFFSETFROM:-0400
TZOFFSETTO:-0500
TZNAME:EST
DTSTART:20251102T060000
END:STANDARD
BEGIN:DAYLIGHT
TZOFFSETFROM:-0500
TZOFFSETTO:-0400
TZNAME:EDT
DTSTART:20260308T070000
END:DAYLIGHT
BEGIN:STANDARD
TZOFFSETFROM:-0400
TZOFFSETTO:-0500
TZNAME:EST
DTSTART:20261101T060000
END:STANDARD
END:VTIMEZONE
BEGIN:VEVENT
DTSTART;TZID=America/New_York:20250630T193000
DTEND;TZID=America/New_York:20250630T210000
DTSTAMP:20260420T003645
CREATED:20250228T185414Z
LAST-MODIFIED:20250303T145016Z
UID:10000628-1751311800-1751317200@bayleysresort.com
SUMMARY:Off the Wall
DESCRIPTION:World-renowned jugglers and comedians\, Jason Tardy and Steve Corning have performed all across the US and beyond\, with highlights including Disney Cruise Lines\, the Atlantis Resort in the Bahamas\, and the White House in Washington\, DC. Now they are combining their talents to create Off The Wall\, a brand new variety show of ultimate proportions. Featuring fast paced juggling routines\, off-the-cuff comedy\, escape wizardry\, dangerous props\, and insane stunts\, this show is non-stop entertainment for the entire family!
URL:https://bayleysresort.com/event/off-the-wall-8-2/2025-06-30/
LOCATION:Seaside Square Complex
CATEGORIES:Performance
GEO:43.547068;-70.357549
END:VEVENT
END:VCALENDAR