BEGIN:VCALENDAR
VERSION:2.0
PRODID:-//Bayley&#039;s Camping Resort - ECPv6.15.18//NONSGML v1.0//EN
CALSCALE:GREGORIAN
METHOD:PUBLISH
X-WR-CALNAME:Bayley&#039;s Camping Resort
X-ORIGINAL-URL:https://bayleysresort.com
X-WR-CALDESC:Events for Bayley&#039;s Camping Resort
REFRESH-INTERVAL;VALUE=DURATION:PT1H
X-Robots-Tag:noindex
X-PUBLISHED-TTL:PT1H
BEGIN:VTIMEZONE
TZID:America/New_York
BEGIN:DAYLIGHT
TZOFFSETFROM:-0500
TZOFFSETTO:-0400
TZNAME:EDT
DTSTART:20230312T070000
END:DAYLIGHT
BEGIN:STANDARD
TZOFFSETFROM:-0400
TZOFFSETTO:-0500
TZNAME:EST
DTSTART:20231105T060000
END:STANDARD
BEGIN:DAYLIGHT
TZOFFSETFROM:-0500
TZOFFSETTO:-0400
TZNAME:EDT
DTSTART:20240310T070000
END:DAYLIGHT
BEGIN:STANDARD
TZOFFSETFROM:-0400
TZOFFSETTO:-0500
TZNAME:EST
DTSTART:20241103T060000
END:STANDARD
BEGIN:DAYLIGHT
TZOFFSETFROM:-0500
TZOFFSETTO:-0400
TZNAME:EDT
DTSTART:20250309T070000
END:DAYLIGHT
BEGIN:STANDARD
TZOFFSETFROM:-0400
TZOFFSETTO:-0500
TZNAME:EST
DTSTART:20251102T060000
END:STANDARD
END:VTIMEZONE
BEGIN:VEVENT
DTSTART;TZID=America/New_York:20240801T193000
DTEND;TZID=America/New_York:20240801T210000
DTSTAMP:20260422T095357
CREATED:20240629T045042Z
LAST-MODIFIED:20240629T045125Z
UID:10000521-1722540600-1722546000@bayleysresort.com
SUMMARY:Trivia
DESCRIPTION:Join us for a fun night of trivia with the whole family!
URL:https://bayleysresort.com/event/trivia-3/2024-08-01/
LOCATION:Seaside Square Complex
CATEGORIES:Game
GEO:43.547068;-70.357549
END:VEVENT
BEGIN:VEVENT
DTSTART;TZID=America/New_York:20240806T193000
DTEND;TZID=America/New_York:20240806T210000
DTSTAMP:20260422T095357
CREATED:20240629T050549Z
LAST-MODIFIED:20240629T050549Z
UID:10000550-1722972600-1722978000@bayleysresort.com
SUMMARY:Musingo
DESCRIPTION:Musingo is a bingo styled game where song titles are substituted on a bingo styled card instead of numbers. Short segments of songs or video clips play in a random sequence while players attempt to identify the song’s title on his or her Musingo card.
URL:https://bayleysresort.com/event/musingo-5/2024-08-06/
LOCATION:Seaside Square Complex
CATEGORIES:Game,Music
GEO:43.547068;-70.357549
END:VEVENT
BEGIN:VEVENT
DTSTART;TZID=America/New_York:20240808T193000
DTEND;TZID=America/New_York:20240808T210000
DTSTAMP:20260422T095357
CREATED:20240629T045042Z
LAST-MODIFIED:20240629T045125Z
UID:10000522-1723145400-1723150800@bayleysresort.com
SUMMARY:Trivia
DESCRIPTION:Join us for a fun night of trivia with the whole family!
URL:https://bayleysresort.com/event/trivia-3/2024-08-08/
LOCATION:Seaside Square Complex
CATEGORIES:Game
GEO:43.547068;-70.357549
END:VEVENT
BEGIN:VEVENT
DTSTART;TZID=America/New_York:20240813T193000
DTEND;TZID=America/New_York:20240813T210000
DTSTAMP:20260422T095357
CREATED:20240629T050549Z
LAST-MODIFIED:20240629T050549Z
UID:10000551-1723577400-1723582800@bayleysresort.com
SUMMARY:Musingo
DESCRIPTION:Musingo is a bingo styled game where song titles are substituted on a bingo styled card instead of numbers. Short segments of songs or video clips play in a random sequence while players attempt to identify the song’s title on his or her Musingo card.
URL:https://bayleysresort.com/event/musingo-5/2024-08-13/
LOCATION:Seaside Square Complex
CATEGORIES:Game,Music
GEO:43.547068;-70.357549
END:VEVENT
BEGIN:VEVENT
DTSTART;TZID=America/New_York:20240815T193000
DTEND;TZID=America/New_York:20240815T210000
DTSTAMP:20260422T095357
CREATED:20240629T045042Z
LAST-MODIFIED:20240629T045125Z
UID:10000523-1723750200-1723755600@bayleysresort.com
SUMMARY:Trivia
DESCRIPTION:Join us for a fun night of trivia with the whole family!
URL:https://bayleysresort.com/event/trivia-3/2024-08-15/
LOCATION:Seaside Square Complex
CATEGORIES:Game
GEO:43.547068;-70.357549
END:VEVENT
BEGIN:VEVENT
DTSTART;TZID=America/New_York:20240820T193000
DTEND;TZID=America/New_York:20240820T210000
DTSTAMP:20260422T095357
CREATED:20240629T050549Z
LAST-MODIFIED:20240629T050549Z
UID:10000552-1724182200-1724187600@bayleysresort.com
SUMMARY:Musingo
DESCRIPTION:Musingo is a bingo styled game where song titles are substituted on a bingo styled card instead of numbers. Short segments of songs or video clips play in a random sequence while players attempt to identify the song’s title on his or her Musingo card.
URL:https://bayleysresort.com/event/musingo-5/2024-08-20/
LOCATION:Seaside Square Complex
CATEGORIES:Game,Music
GEO:43.547068;-70.357549
END:VEVENT
BEGIN:VEVENT
DTSTART;TZID=America/New_York:20240822T193000
DTEND;TZID=America/New_York:20240822T210000
DTSTAMP:20260422T095357
CREATED:20240629T045042Z
LAST-MODIFIED:20240629T045125Z
UID:10000524-1724355000-1724360400@bayleysresort.com
SUMMARY:Trivia
DESCRIPTION:Join us for a fun night of trivia with the whole family!
URL:https://bayleysresort.com/event/trivia-3/2024-08-22/
LOCATION:Seaside Square Complex
CATEGORIES:Game
GEO:43.547068;-70.357549
END:VEVENT
END:VCALENDAR