BEGIN:VCALENDAR
VERSION:2.0
PRODID:-//Bayley&#039;s Camping Resort - ECPv6.15.18//NONSGML v1.0//EN
CALSCALE:GREGORIAN
METHOD:PUBLISH
X-ORIGINAL-URL:https://bayleysresort.com
X-WR-CALDESC:Events for Bayley&#039;s Camping Resort
REFRESH-INTERVAL;VALUE=DURATION:PT1H
X-Robots-Tag:noindex
X-PUBLISHED-TTL:PT1H
BEGIN:VTIMEZONE
TZID:America/New_York
BEGIN:DAYLIGHT
TZOFFSETFROM:-0500
TZOFFSETTO:-0400
TZNAME:EDT
DTSTART:20230312T070000
END:DAYLIGHT
BEGIN:STANDARD
TZOFFSETFROM:-0400
TZOFFSETTO:-0500
TZNAME:EST
DTSTART:20231105T060000
END:STANDARD
BEGIN:DAYLIGHT
TZOFFSETFROM:-0500
TZOFFSETTO:-0400
TZNAME:EDT
DTSTART:20240310T070000
END:DAYLIGHT
BEGIN:STANDARD
TZOFFSETFROM:-0400
TZOFFSETTO:-0500
TZNAME:EST
DTSTART:20241103T060000
END:STANDARD
BEGIN:DAYLIGHT
TZOFFSETFROM:-0500
TZOFFSETTO:-0400
TZNAME:EDT
DTSTART:20250309T070000
END:DAYLIGHT
BEGIN:STANDARD
TZOFFSETFROM:-0400
TZOFFSETTO:-0500
TZNAME:EST
DTSTART:20251102T060000
END:STANDARD
END:VTIMEZONE
BEGIN:VEVENT
DTSTART;TZID=America/New_York:20240625T193000
DTEND;TZID=America/New_York:20240625T210000
DTSTAMP:20260422T125442
CREATED:20240629T050549Z
LAST-MODIFIED:20240629T050549Z
UID:10000544-1719343800-1719349200@bayleysresort.com
SUMMARY:Musingo
DESCRIPTION:Musingo is a bingo styled game where song titles are substituted on a bingo styled card instead of numbers. Short segments of songs or video clips play in a random sequence while players attempt to identify the song’s title on his or her Musingo card.
URL:https://bayleysresort.com/event/musingo-5/2024-06-25/
LOCATION:Seaside Square Complex
CATEGORIES:Game,Music
GEO:43.547068;-70.357549
END:VEVENT
BEGIN:VEVENT
DTSTART;TZID=America/New_York:20240627T193000
DTEND;TZID=America/New_York:20240627T210000
DTSTAMP:20260422T125442
CREATED:20240629T045042Z
LAST-MODIFIED:20240629T045125Z
UID:10000516-1719516600-1719522000@bayleysresort.com
SUMMARY:Trivia
DESCRIPTION:Join us for a fun night of trivia with the whole family!
URL:https://bayleysresort.com/event/trivia-3/2024-06-27/
LOCATION:Seaside Square Complex
CATEGORIES:Game
GEO:43.547068;-70.357549
END:VEVENT
END:VCALENDAR